BEGIN:VCALENDAR
VERSION:2.0
PRODID:-//Schlierbachnarren Schabenhausen e.V. - ECPv6.15.17.1//NONSGML v1.0//EN
CALSCALE:GREGORIAN
METHOD:PUBLISH
X-ORIGINAL-URL:https://schlierbachnarren.de
X-WR-CALDESC:Veranstaltungen für Schlierbachnarren Schabenhausen e.V.
REFRESH-INTERVAL;VALUE=DURATION:PT1H
X-Robots-Tag:noindex
X-PUBLISHED-TTL:PT1H
BEGIN:VTIMEZONE
TZID:Europe/Berlin
BEGIN:DAYLIGHT
TZOFFSETFROM:+0100
TZOFFSETTO:+0200
TZNAME:CEST
DTSTART:20250330T010000
END:DAYLIGHT
BEGIN:STANDARD
TZOFFSETFROM:+0200
TZOFFSETTO:+0100
TZNAME:CET
DTSTART:20251026T010000
END:STANDARD
BEGIN:DAYLIGHT
TZOFFSETFROM:+0100
TZOFFSETTO:+0200
TZNAME:CEST
DTSTART:20260329T010000
END:DAYLIGHT
BEGIN:STANDARD
TZOFFSETFROM:+0200
TZOFFSETTO:+0100
TZNAME:CET
DTSTART:20261025T010000
END:STANDARD
BEGIN:DAYLIGHT
TZOFFSETFROM:+0100
TZOFFSETTO:+0200
TZNAME:CEST
DTSTART:20270328T010000
END:DAYLIGHT
BEGIN:STANDARD
TZOFFSETFROM:+0200
TZOFFSETTO:+0100
TZNAME:CET
DTSTART:20271031T010000
END:STANDARD
END:VTIMEZONE
BEGIN:VEVENT
DTSTART;TZID=Europe/Berlin:20260107T193000
DTEND;TZID=Europe/Berlin:20260107T194500
DTSTAMP:20260422T212346
CREATED:20251221T215311Z
LAST-MODIFIED:20251221T215912Z
UID:6275-1767814200-1767815100@schlierbachnarren.de
SUMMARY:Helfer-Briefing zum Jubiläum "7-Quadrat plus 2"
DESCRIPTION:Wir laden alle Helferinnen und Helfer herzlich zu einem gemeinsamen Briefing ein! \nIn diesem Meeting möchten wir alle Unterstützer an einen Tisch bringen\, um wichtige Informationen zu den Vorbereitungen und der Durchführung unseres Jubiläums zu teilen. Ihr erfahrt\, an wen ihr euch wenden könnt und was konkret wo zu tun ist. \nWann: Mittwoch\, 07.01.2026 um 19:30 Uhr\nWo: Online via Zoom \nWir freuen uns über jede Unterstützung und schätzen euer Engagement sehr! \nKommt bei Fragen bitte auf Euren direkten Ansprechpartner oder ein Vorstandsmitglied der Schlierbachnarren zu. \n→ Zoom-Link: https://us05web.zoom.us/j/81710883051?pwd=F7VGeT5uHRahW27aGpbQlXClxDPXLm.1\nTeilnahme einfach über obigen Link. Falls die Zoom App nicht installiert ist\, unten „Join from your browser“ auswählen und schon seid Ihr dabei 🙂 \n 
URL:https://schlierbachnarren.de/event/helfer-briefing-zum-jubilaeum-7-quadrat-plus-2/
LOCATION:Online
CATEGORIES:Arbeitseinsätze / Allgemein
ATTACH;FMTTYPE=image/webp:https://schlierbachnarren.de/wp-content/uploads/2025/12/helfer-briefing-zoom.webp
ORGANIZER;CN="Schlierbachnarren":MAILTO:info@schlierbachnarren.de
END:VEVENT
END:VCALENDAR