BEGIN:VCALENDAR
VERSION:2.0
PRODID:-//Schlierbachnarren Schabenhausen e.V. - ECPv6.15.17.1//NONSGML v1.0//EN
CALSCALE:GREGORIAN
METHOD:PUBLISH
X-ORIGINAL-URL:https://schlierbachnarren.de
X-WR-CALDESC:Veranstaltungen für Schlierbachnarren Schabenhausen e.V.
REFRESH-INTERVAL;VALUE=DURATION:PT1H
X-Robots-Tag:noindex
X-PUBLISHED-TTL:PT1H
BEGIN:VTIMEZONE
TZID:Europe/Berlin
BEGIN:DAYLIGHT
TZOFFSETFROM:+0100
TZOFFSETTO:+0200
TZNAME:CEST
DTSTART:20250330T010000
END:DAYLIGHT
BEGIN:STANDARD
TZOFFSETFROM:+0200
TZOFFSETTO:+0100
TZNAME:CET
DTSTART:20251026T010000
END:STANDARD
BEGIN:DAYLIGHT
TZOFFSETFROM:+0100
TZOFFSETTO:+0200
TZNAME:CEST
DTSTART:20260329T010000
END:DAYLIGHT
BEGIN:STANDARD
TZOFFSETFROM:+0200
TZOFFSETTO:+0100
TZNAME:CET
DTSTART:20261025T010000
END:STANDARD
BEGIN:DAYLIGHT
TZOFFSETFROM:+0100
TZOFFSETTO:+0200
TZNAME:CEST
DTSTART:20270328T010000
END:DAYLIGHT
BEGIN:STANDARD
TZOFFSETFROM:+0200
TZOFFSETTO:+0100
TZNAME:CET
DTSTART:20271031T010000
END:STANDARD
END:VTIMEZONE
BEGIN:VEVENT
DTSTART;VALUE=DATE:20260218
DTEND;VALUE=DATE:20260219
DTSTAMP:20260423T124453
CREATED:20230115T161427Z
LAST-MODIFIED:20260217T095528Z
UID:1872-1771372800-1771459199@schlierbachnarren.de
SUMMARY:Putzen/Aufräumen und Abendessen
DESCRIPTION:Wer feste Feste feiern kann\, kann auch feste arbeiten! Am Mittwoch\, den 18.02.2026 treffen wir uns morgens um 10:00 Uhr zum Aufräumen und Halle putzen. \nAm Abend um 18:30 Uhr treffen wir uns an der Stellfalle in Kappel\, um gemeinsam Essen zu gehen. Dort sind Plätze für uns reserviert. \nDamit schließen wir die Saison offiziell auch ab. Schade\, schade\, schade…!
URL:https://schlierbachnarren.de/event/putzen-aufraeumen-und-abendessen/
LOCATION:Schlierbachhalle\, Niedereschacher Str. 2\, Niedereschach\, 78078
CATEGORIES:Interne Veranstaltung,Uffräume
ATTACH;FMTTYPE=image/jpeg:https://schlierbachnarren.de/wp-content/uploads/2022/11/Wasser_Brunnen-1-scaled-e1673789581631.jpg
ORGANIZER;CN="Schlierbachnarren":MAILTO:info@schlierbachnarren.de
END:VEVENT
END:VCALENDAR