BEGIN:VCALENDAR
VERSION:2.0
PRODID:-//Schlierbachnarren Schabenhausen e.V. - ECPv6.15.17.1//NONSGML v1.0//EN
CALSCALE:GREGORIAN
METHOD:PUBLISH
X-ORIGINAL-URL:https://schlierbachnarren.de
X-WR-CALDESC:Veranstaltungen für Schlierbachnarren Schabenhausen e.V.
REFRESH-INTERVAL;VALUE=DURATION:PT1H
X-Robots-Tag:noindex
X-PUBLISHED-TTL:PT1H
BEGIN:VTIMEZONE
TZID:Europe/Berlin
BEGIN:DAYLIGHT
TZOFFSETFROM:+0100
TZOFFSETTO:+0200
TZNAME:CEST
DTSTART:20230326T010000
END:DAYLIGHT
BEGIN:STANDARD
TZOFFSETFROM:+0200
TZOFFSETTO:+0100
TZNAME:CET
DTSTART:20231029T010000
END:STANDARD
BEGIN:DAYLIGHT
TZOFFSETFROM:+0100
TZOFFSETTO:+0200
TZNAME:CEST
DTSTART:20240331T010000
END:DAYLIGHT
BEGIN:STANDARD
TZOFFSETFROM:+0200
TZOFFSETTO:+0100
TZNAME:CET
DTSTART:20241027T010000
END:STANDARD
BEGIN:DAYLIGHT
TZOFFSETFROM:+0100
TZOFFSETTO:+0200
TZNAME:CEST
DTSTART:20250330T010000
END:DAYLIGHT
BEGIN:STANDARD
TZOFFSETFROM:+0200
TZOFFSETTO:+0100
TZNAME:CET
DTSTART:20251026T010000
END:STANDARD
END:VTIMEZONE
BEGIN:VEVENT
DTSTART;TZID=Europe/Berlin:20240419T190000
DTEND;TZID=Europe/Berlin:20240419T210000
DTSTAMP:20260419T141308
CREATED:20230405T214015Z
LAST-MODIFIED:20240306T220231Z
UID:2141-1713553200-1713560400@schlierbachnarren.de
SUMMARY:Generalversammlung 2024
DESCRIPTION:Am Freitag\, dem 19.04.2024 um 19.00 Uhr findet im Haus der Vereine (ganz oben) unsere diesjährige Generalversammlung statt. \nDazu laden wir alle Mitglieder\, Herrn Bürgermeister Martin Ragg\, Herrn Ortsvorsteher Alfred Irion mit seinen Ortschaftsräten\, die Vereinsvertreter und die örtliche Presse herzlich ein. \nTagesordnung \n\nBegrüßung\nTotengedenken\nBericht des 1. Zunftmeisters\nBericht des Säckelmeisters\nBericht des Kritzelmeisters\nEntlastung der Vorstandschaft\nNeuwahlen: 1. Zunftmeister\, Kritzelmeister\, Beisitzer\nEhrungen\nAnpassung Mitgliedsbeitrag\nVerschiedenes\nWünsche und Anträge\n\nWenn weitere Punkte aus den Reihen der Mitglieder in die Tagesordnung aufgenommen werden sollen\, dann müssen diese satzungsgemäß spätestens 4 Tage vor der Versammlung schriftlich bei einem Vorstandsmitglied eingegangen sein. \nEs grüßt\nEuer Vorstand \nP.S. Bitte beachten: entgegen den zu Jahresanfang veröffentlichten Terminen ist das jetzt eine Woche später. Das hat den entscheidenden Vorteil\, dass man sich den Termin auch ohne Kalender viel besser merken kann (neunzehn im Datum und neunzehn in der Uhrzeit).
URL:https://schlierbachnarren.de/event/generalversammlung-2024/
LOCATION:Haus der Vereine\, Neuhauser Str. 1\, Niederschach\, 78078\, Deutschland
CATEGORIES:Generalversammlung
ATTACH;FMTTYPE=image/jpeg:https://schlierbachnarren.de/wp-content/uploads/2023/04/General-1-e1707309133268.jpg
ORGANIZER;CN="Schlierbachnarren":MAILTO:info@schlierbachnarren.de
END:VEVENT
END:VCALENDAR