BEGIN:VCALENDAR
VERSION:2.0
PRODID:-//Schlierbachnarren Schabenhausen e.V. - ECPv6.15.17.1//NONSGML v1.0//EN
CALSCALE:GREGORIAN
METHOD:PUBLISH
X-WR-CALNAME:Schlierbachnarren Schabenhausen e.V.
X-ORIGINAL-URL:https://schlierbachnarren.de
X-WR-CALDESC:Veranstaltungen für Schlierbachnarren Schabenhausen e.V.
REFRESH-INTERVAL;VALUE=DURATION:PT1H
X-Robots-Tag:noindex
X-PUBLISHED-TTL:PT1H
BEGIN:VTIMEZONE
TZID:Europe/Berlin
BEGIN:DAYLIGHT
TZOFFSETFROM:+0100
TZOFFSETTO:+0200
TZNAME:CEST
DTSTART:20240331T010000
END:DAYLIGHT
BEGIN:STANDARD
TZOFFSETFROM:+0200
TZOFFSETTO:+0100
TZNAME:CET
DTSTART:20241027T010000
END:STANDARD
BEGIN:DAYLIGHT
TZOFFSETFROM:+0100
TZOFFSETTO:+0200
TZNAME:CEST
DTSTART:20250330T010000
END:DAYLIGHT
BEGIN:STANDARD
TZOFFSETFROM:+0200
TZOFFSETTO:+0100
TZNAME:CET
DTSTART:20251026T010000
END:STANDARD
BEGIN:DAYLIGHT
TZOFFSETFROM:+0100
TZOFFSETTO:+0200
TZNAME:CEST
DTSTART:20260329T010000
END:DAYLIGHT
BEGIN:STANDARD
TZOFFSETFROM:+0200
TZOFFSETTO:+0100
TZNAME:CET
DTSTART:20261025T010000
END:STANDARD
END:VTIMEZONE
BEGIN:VEVENT
DTSTART;TZID=Europe/Berlin:20251115T140000
DTEND;TZID=Europe/Berlin:20251115T170000
DTSTAMP:20260420T235449
CREATED:20250105T135807Z
LAST-MODIFIED:20251026T112532Z
UID:3712-1763215200-1763226000@schlierbachnarren.de
SUMMARY:Häsabstauben + Gruppenfoto
DESCRIPTION:S goht degege\, Mamme häng de Schurz a d’Wand! \nAn alle die ein Häs haben:\nBitte bringt dieses vollständig mit\, wir wollen anlässlich des Jubiläums ein neues Gruppenfoto mit möglichst vielen Narren machen! \nEs geht wieder los! Wir treffen uns zum Häsabstauben im Haus der Vereine. Bei Kaffee und Kuchen bereiten wir uns auf die heiße Phase vor. Häser können getauscht\, zurück gegeben oder neu ausgegeben werden. \nDarüber hinaus putzen wir das Haus der Vereine inklusive das Stüble mal wieder durch! Und die Kreativen unter uns beginnen mit den Bastelarbeiten für den Wasserträgerball 2026. \nNach dem Motto: viele Hände – schnelles Ende freuen wir uns auf rege Unterstützung. \nEs grüßt: der Vorstand
URL:https://schlierbachnarren.de/event/haesabstauben-4/
LOCATION:Haus der Vereine\, Neuhauser Str. 1\, Niederschach\, 78078\, Deutschland
CATEGORIES:Häsabstauben
ATTACH;FMTTYPE=image/jpeg:https://schlierbachnarren.de/wp-content/uploads/2025/03/IMG-20250302-WA0018-e1760640003811.jpg
ORGANIZER;CN="Schlierbachnarren":MAILTO:info@schlierbachnarren.de
END:VEVENT
END:VCALENDAR