BEGIN:VCALENDAR
VERSION:2.0
PRODID:-//Schlierbachnarren Schabenhausen e.V. - ECPv6.15.17.1//NONSGML v1.0//EN
CALSCALE:GREGORIAN
METHOD:PUBLISH
X-ORIGINAL-URL:https://schlierbachnarren.de
X-WR-CALDESC:Veranstaltungen für Schlierbachnarren Schabenhausen e.V.
REFRESH-INTERVAL;VALUE=DURATION:PT1H
X-Robots-Tag:noindex
X-PUBLISHED-TTL:PT1H
BEGIN:VTIMEZONE
TZID:Europe/Berlin
BEGIN:DAYLIGHT
TZOFFSETFROM:+0100
TZOFFSETTO:+0200
TZNAME:CEST
DTSTART:20230326T010000
END:DAYLIGHT
BEGIN:STANDARD
TZOFFSETFROM:+0200
TZOFFSETTO:+0100
TZNAME:CET
DTSTART:20231029T010000
END:STANDARD
BEGIN:DAYLIGHT
TZOFFSETFROM:+0100
TZOFFSETTO:+0200
TZNAME:CEST
DTSTART:20240331T010000
END:DAYLIGHT
BEGIN:STANDARD
TZOFFSETFROM:+0200
TZOFFSETTO:+0100
TZNAME:CET
DTSTART:20241027T010000
END:STANDARD
BEGIN:DAYLIGHT
TZOFFSETFROM:+0100
TZOFFSETTO:+0200
TZNAME:CEST
DTSTART:20250330T010000
END:DAYLIGHT
BEGIN:STANDARD
TZOFFSETFROM:+0200
TZOFFSETTO:+0100
TZNAME:CET
DTSTART:20251026T010000
END:STANDARD
END:VTIMEZONE
BEGIN:VEVENT
DTSTART;TZID=Europe/Berlin:20240623T100000
DTEND;TZID=Europe/Berlin:20240623T170000
DTSTAMP:20260420T164027
CREATED:20240306T210227Z
LAST-MODIFIED:20240307T065538Z
UID:3247-1719136800-1719162000@schlierbachnarren.de
SUMMARY:Boule Open 2024
DESCRIPTION:Liebe Sportsfreunde! \nWir laden euch ein\, in diesem Jahr wieder eine “wilde“ Kugel zu schieben. Termin ist Sonntag\, der 23. Juni 2024 ab 10:00 Uhr an der Schlierbachhalle. \nFür das leibliche Wohl ist bestens gesorgt! \nAnmelden könnt ihr euch schriftlich unter info@schlierbachnarren.de oder bei jemandem aus dem Vorstand. Gemeldet werden können Dreier-Teams\, auf Wunsch mit einem Ersatzspieler. \nFür Rückfragen stehen wir Euch gern zur Verfügung und freuen uns auf Euch! \nDer Vorstand
URL:https://schlierbachnarren.de/event/boule-open-2024/
LOCATION:Schlierbachhalle\, Niedereschacher Str. 2\, Niedereschach\, 78078
CATEGORIES:Boule Open,öffentliche Veranstaltung
ATTACH;FMTTYPE=image/jpeg:https://schlierbachnarren.de/wp-content/uploads/2023/04/Boule.jpg
ORGANIZER;CN="Schlierbachnarren":MAILTO:info@schlierbachnarren.de
END:VEVENT
END:VCALENDAR